BEGIN:VCALENDAR
VERSION:2.0
PRODID:icalendar-ruby
CALSCALE:GREGORIAN
BEGIN:VEVENT
DTSTAMP:20210122T151800Z
UID:f9d16464-b433-4da0-aa8d-0cf0f66ce8c7
DTSTART;VALUE=DATE:20190731
DESCRIPTION:Property ID# 458016\, Time: 1:00PM
SUMMARY:Auction for 
END:VEVENT
END:VCALENDAR
