BEGIN:VCALENDAR
VERSION:2.0
PRODID:icalendar-ruby
CALSCALE:GREGORIAN
BEGIN:VEVENT
DTSTAMP:20210122T151844Z
UID:f4ab1838-6253-4c6e-a8c4-fe005afb829c
DTSTART;VALUE=DATE:20190822
DESCRIPTION:Property ID# 459148\, Locatoin: At The Offices of Ray White Lea
 ders\, 31 Main Street\, Upper Hutt.\, Time: 1:00PM
SUMMARY:Auction for 
END:VEVENT
END:VCALENDAR
