BEGIN:VCALENDAR
VERSION:2.0
PRODID:icalendar-ruby
CALSCALE:GREGORIAN
BEGIN:VEVENT
DTSTAMP:20210122T151843Z
UID:0ac6dfb8-fc75-4bd9-9478-4e586570a6d2
DTSTART;VALUE=DATE:20190926
DESCRIPTION:Property ID# 460157\, Locatoin: At The Offices of Ray White Lea
 ders\, 31 Main Street\, Upper Hutt.\, Time: 1:00PM
SUMMARY:Auction for 
END:VEVENT
END:VCALENDAR
