BEGIN:VCALENDAR
VERSION:2.0
PRODID:icalendar-ruby
CALSCALE:GREGORIAN
BEGIN:VEVENT
DTSTAMP:20210122T151756Z
UID:03140447-da96-4d91-866f-4f00b094053b
DTSTART;VALUE=DATE:20200825
DESCRIPTION:Property ID# 465526\, Locatoin: Ray White Leaders\, 9-11 Kings 
 Crescent LOWER HUTT\, Time: 3:00PM
SUMMARY:Auction for 
END:VEVENT
END:VCALENDAR
