BEGIN:VCALENDAR
VERSION:2.0
PRODID:icalendar-ruby
CALSCALE:GREGORIAN
BEGIN:VEVENT
DTSTAMP:20210122T151840Z
UID:24bf5c2e-0ce5-4407-a3b3-7b853a2ae3e0
DTSTART;VALUE=DATE:20191128
DESCRIPTION:Property ID# 466472\, Locatoin: At The Offices of Ray White Lea
 ders\, 31 Main Street\, Upper Hutt.\, Time: 1:00PM
SUMMARY:Auction for 
END:VEVENT
END:VCALENDAR
