BEGIN:VCALENDAR
VERSION:2.0
PRODID:icalendar-ruby
CALSCALE:GREGORIAN
BEGIN:VEVENT
DTSTAMP:20210122T151837Z
UID:ae661ff7-0c6e-4d0c-9246-8976d9bb91b0
DTSTART;VALUE=DATE:20191211
DESCRIPTION:Property ID# 467798\, Time: 1:00PM
SUMMARY:Auction for 
END:VEVENT
END:VCALENDAR
