BEGIN:VCALENDAR
VERSION:2.0
PRODID:icalendar-ruby
CALSCALE:GREGORIAN
BEGIN:VEVENT
DTSTAMP:20210122T151755Z
UID:e49a2e1b-bb16-4d27-a67e-a07e03d34949
DTSTART;VALUE=DATE:20191210
DESCRIPTION:Property ID# 467919\, Locatoin: Ray White Leaders\, 9-11 Kings 
 Crescent LOWER HUTT\, Time: 4:00PM
SUMMARY:Auction for 
END:VEVENT
END:VCALENDAR
