BEGIN:VCALENDAR
VERSION:2.0
PRODID:icalendar-ruby
CALSCALE:GREGORIAN
BEGIN:VEVENT
DTSTAMP:20210122T151753Z
UID:94ef0925-d0c2-44de-818b-489a41b43890
DTSTART;VALUE=DATE:20200312
DESCRIPTION:Property ID# 474440\, Locatoin: Ray White Leaders\, 9-11 Kings 
 Cres Lower Hutt\, Time: 4:00PM
SUMMARY:Auction for 
END:VEVENT
END:VCALENDAR
