BEGIN:VCALENDAR
VERSION:2.0
PRODID:icalendar-ruby
CALSCALE:GREGORIAN
BEGIN:VEVENT
DTSTAMP:20210122T151834Z
UID:7e375cf7-56e4-4820-9688-fa636047fe87
DTSTART;VALUE=DATE:20200702
DESCRIPTION:Property ID# 481759\, Time: 1:00PM
SUMMARY:Auction for 
END:VEVENT
END:VCALENDAR
