BEGIN:VCALENDAR
VERSION:2.0
PRODID:icalendar-ruby
CALSCALE:GREGORIAN
BEGIN:VEVENT
DTSTAMP:20210122T151831Z
UID:9e5fe4b0-d8fd-4070-baba-5628bb1ad305
DTSTART;VALUE=DATE:20200724
DESCRIPTION:Property ID# 484699\, Locatoin: At The Offices of Ray White Lea
 ders\, 31 Main Street\, Upper Hutt.\, Time: 4:00PM
SUMMARY:Auction for 
END:VEVENT
END:VCALENDAR
