BEGIN:VCALENDAR
VERSION:2.0
PRODID:icalendar-ruby
CALSCALE:GREGORIAN
BEGIN:VEVENT
DTSTAMP:20210122T151752Z
UID:1e5e1d1b-e826-4e1c-ad82-658055214009
DTSTART;VALUE=DATE:20200716
DESCRIPTION:Property ID# 484850\, Locatoin: Ray White Leaders\, 9-11 Kings 
 Crescent LOWER HUTT\, Time: 4:00PM
SUMMARY:Auction for 
END:VEVENT
END:VCALENDAR
