BEGIN:VCALENDAR
VERSION:2.0
PRODID:icalendar-ruby
CALSCALE:GREGORIAN
BEGIN:VEVENT
DTSTAMP:20210122T151750Z
UID:f7d4f8cc-69ce-455e-b82a-d96505353035
DTSTART;VALUE=DATE:20200903
DESCRIPTION:Property ID# 487602\, Locatoin: Ray White Leaders\, 9-11 Kings 
 Cres LOWER HUTT\, Time: 3:00PM
SUMMARY:Auction for 
END:VEVENT
END:VCALENDAR
