BEGIN:VCALENDAR
VERSION:2.0
PRODID:icalendar-ruby
CALSCALE:GREGORIAN
BEGIN:VEVENT
DTSTAMP:20210122T151811Z
UID:da83e8be-e9cb-4014-bbe8-57fd7103dcd9
DTSTART;VALUE=DATE:20200909
DESCRIPTION:Property ID# 488284\, Locatoin: 31 Main Street\, Upper Hutt\, T
 ime: 12:00PM
SUMMARY:Auction for 
END:VEVENT
END:VCALENDAR
