BEGIN:VCALENDAR
VERSION:2.0
PRODID:icalendar-ruby
CALSCALE:GREGORIAN
BEGIN:VEVENT
DTSTAMP:20210122T151809Z
UID:8cd75a4e-6752-49b5-905e-cabc46f51b89
DTSTART;VALUE=DATE:20200916
DESCRIPTION:Property ID# 489002\, Locatoin: 31 Main Street\, Upper Hutt (wi
 ll not be sold prior).\, Time: 12:00PM
SUMMARY:Auction for 
END:VEVENT
END:VCALENDAR
