BEGIN:VCALENDAR
VERSION:2.0
PRODID:icalendar-ruby
CALSCALE:GREGORIAN
BEGIN:VEVENT
DTSTAMP:20210122T151807Z
UID:73e323e0-389d-4fae-ac85-4841278d9151
DTSTART;VALUE=DATE:20201007
DESCRIPTION:Property ID# 490700\, Locatoin: Ray White office 31 Main Street
 \, Upper Hutt\, Time: 12:00PM
SUMMARY:Auction for 
END:VEVENT
END:VCALENDAR
