BEGIN:VCALENDAR
VERSION:2.0
PRODID:icalendar-ruby
CALSCALE:GREGORIAN
BEGIN:VEVENT
DTSTAMP:20210119T182518Z
UID:a9159593-cc00-45d7-9bbf-cf5dfd9f45eb
DTSTART;VALUE=DATE:20201030
DESCRIPTION:Property ID# 492923\, Locatoin: Ray White Office 31 Main Street
 \, Upper Hutt\, Time: 1:00PM
SUMMARY:Auction for 
END:VEVENT
END:VCALENDAR
