BEGIN:VCALENDAR
VERSION:2.0
PRODID:icalendar-ruby
CALSCALE:GREGORIAN
BEGIN:VEVENT
DTSTAMP:20210122T151805Z
UID:09d9cf5f-c01c-45d2-ae7c-bee8b0d42063
DTSTART;VALUE=DATE:20201104
DESCRIPTION:Property ID# 493406\, Locatoin: 31 Main Street\, Upper Hutt - R
 ay White Office\, Time: 12:00PM
SUMMARY:Auction for 
END:VEVENT
END:VCALENDAR
