BEGIN:VCALENDAR
VERSION:2.0
PRODID:icalendar-ruby
CALSCALE:GREGORIAN
BEGIN:VEVENT
DTSTAMP:20210119T182637Z
UID:e795b818-ad31-4c85-b4ec-107c70531960
DTSTART;VALUE=DATE:20201119
DESCRIPTION:Property ID# 494624\, Time: 12:30PM
SUMMARY:Auction for 
END:VEVENT
END:VCALENDAR
