BEGIN:VCALENDAR
VERSION:2.0
PRODID:icalendar-ruby
CALSCALE:GREGORIAN
BEGIN:VEVENT
DTSTAMP:20210122T152145Z
UID:b73813ec-7c7e-49ba-bd61-5238cd11d897
DTSTART;VALUE=DATE:20201120
DESCRIPTION:Property ID# 494666\, Locatoin: 120 Queens Dr\, Lower Hutt\, Ti
 me: 3:00PM
SUMMARY:Auction for 
END:VEVENT
END:VCALENDAR
