BEGIN:VCALENDAR
VERSION:2.0
PRODID:icalendar-ruby
CALSCALE:GREGORIAN
BEGIN:VEVENT
DTSTAMP:20210122T152029Z
UID:5a57550d-3bd2-43f2-826d-6e0412422cf3
DTSTART;VALUE=DATE:20201208
DESCRIPTION:Property ID# 494902\, Time: 1:00PM
SUMMARY:Auction for 
END:VEVENT
END:VCALENDAR
