BEGIN:VCALENDAR
VERSION:2.0
PRODID:icalendar-ruby
CALSCALE:GREGORIAN
BEGIN:VEVENT
DTSTAMP:20210122T151854Z
UID:1de2739f-0c2b-4f6d-b03f-630857e0a482
DTSTART;VALUE=DATE:20201124
DESCRIPTION:Property ID# 495137\, Time: 4:00PM
SUMMARY:Auction for 
END:VEVENT
END:VCALENDAR
