BEGIN:VCALENDAR
VERSION:2.0
PRODID:icalendar-ruby
CALSCALE:GREGORIAN
BEGIN:VEVENT
DTSTAMP:20210122T151852Z
UID:5a0372a1-c1b2-408b-9e58-038cc7185484
DTSTART;VALUE=DATE:20201125
DESCRIPTION:Property ID# 495708\, Time: 4:00PM
SUMMARY:Auction for 
END:VEVENT
END:VCALENDAR
