BEGIN:VCALENDAR
VERSION:2.0
PRODID:icalendar-ruby
CALSCALE:GREGORIAN
BEGIN:VEVENT
DTSTAMP:20210122T151802Z
UID:ec9fcdcf-9ed2-4667-830f-1ac9736bf516
DTSTART;VALUE=DATE:20201202
DESCRIPTION:Property ID# 496021\, Locatoin: Ray White Upper Hutt office at 
 31 Main Street\, Upper Hutt\, Time: 12:00PM
SUMMARY:Auction for 
END:VEVENT
END:VCALENDAR
