BEGIN:VCALENDAR
VERSION:2.0
PRODID:icalendar-ruby
CALSCALE:GREGORIAN
BEGIN:VEVENT
DTSTAMP:20210122T151804Z
UID:d04b3b6d-07a4-4521-a9a2-c58cb69b14f2
DTSTART;VALUE=DATE:20201203
DESCRIPTION:Property ID# 496022\, Locatoin: Ray White Upper Hutt office at 
 31 Main Street\, Upper Hutt\, Time: 12:00PM
SUMMARY:Auction for 
END:VEVENT
END:VCALENDAR
