BEGIN:VCALENDAR
VERSION:2.0
PRODID:icalendar-ruby
CALSCALE:GREGORIAN
BEGIN:VEVENT
DTSTAMP:20210122T151849Z
UID:0388fd79-dd54-4767-a0ba-47a2802e06e1
DTSTART;VALUE=DATE:20201209
DESCRIPTION:Property ID# 496096\, Locatoin: 237 Taita Drive\, Ricoh Sports 
 Centre Kadima Lounge 2\, Time: 12:00PM
SUMMARY:Auction for 
END:VEVENT
END:VCALENDAR
