BEGIN:VCALENDAR
VERSION:2.0
PRODID:icalendar-ruby
CALSCALE:GREGORIAN
BEGIN:VEVENT
DTSTAMP:20210122T151851Z
UID:a05554d2-e9ea-4025-8c57-7f60c95cfd7e
DTSTART;VALUE=DATE:20201130
DESCRIPTION:Property ID# 496697\, Time: 4:00PM
SUMMARY:Auction for 
END:VEVENT
END:VCALENDAR
