BEGIN:VCALENDAR
VERSION:2.0
PRODID:icalendar-ruby
CALSCALE:GREGORIAN
BEGIN:VEVENT
DTSTAMP:20210122T152027Z
UID:cfcf3a78-b483-4b9d-a919-ff65b8f3bf91
DTSTART;VALUE=DATE:20210128
DESCRIPTION:Property ID# 499458\, Time: 3:00AM
SUMMARY:Auction for 16 Otira Grove
END:VEVENT
END:VCALENDAR
