BEGIN:VCALENDAR
VERSION:2.0
PRODID:icalendar-ruby
CALSCALE:GREGORIAN
BEGIN:VEVENT
DTSTAMP:20210122T150839Z
UID:358fac99-d60f-4c16-8b74-fe7455f464d4
DTSTART;VALUE=DATE:20210202
DESCRIPTION:Property ID# 500081\, Locatoin: 897 Fergusson Drive\, Upper Hut
 t\, Time: 1:00PM
SUMMARY:Auction for 41 Hartford Crescent
END:VEVENT
END:VCALENDAR
