BEGIN:VCALENDAR
VERSION:2.0
PRODID:icalendar-ruby
CALSCALE:GREGORIAN
BEGIN:VEVENT
DTSTAMP:20210119T182633Z
UID:96c6f6e6-8ced-4d61-900a-7acb81e33b95
DTSTART;TZID=Pacific/Auckland:20210120T173000
DTEND;TZID=Pacific/Auckland:20210120T181500
DESCRIPTION:Property ID# 499458
SUMMARY:Openhome for 16 Otira Grove
END:VEVENT
END:VCALENDAR
