BEGIN:VCALENDAR
VERSION:2.0
PRODID:icalendar-ruby
CALSCALE:GREGORIAN
BEGIN:VEVENT
DTSTAMP:20210122T152025Z
UID:4a937f96-b07a-4581-8950-0cf71239d0dc
DTSTART;TZID=Pacific/Auckland:20210125T130000
DTEND;TZID=Pacific/Auckland:20210125T134500
DESCRIPTION:Property ID# 499458
SUMMARY:Openhome for 16 Otira Grove
END:VEVENT
END:VCALENDAR
