BEGIN:VCALENDAR
VERSION:2.0
PRODID:icalendar-ruby
CALSCALE:GREGORIAN
BEGIN:VEVENT
DTSTAMP:20210119T182008Z
UID:53296d2f-0203-4a4d-84f3-4d5251fa095c
DTSTART;TZID=Pacific/Auckland:20210124T120000
DTEND;TZID=Pacific/Auckland:20210124T124500
DESCRIPTION:Property ID# 499956
SUMMARY:Openhome for A/24 Mount Marua Way
END:VEVENT
END:VCALENDAR
