BEGIN:VCALENDAR
VERSION:2.0
PRODID:icalendar-ruby
CALSCALE:GREGORIAN
BEGIN:VEVENT
DTSTAMP:20210122T151816Z
UID:28f955c3-acb2-4e07-9fca-5d20057e7a36
DTSTART;TZID=Pacific/Auckland:20210124T131500
DTEND;TZID=Pacific/Auckland:20210124T140000
DESCRIPTION:Property ID# 499049
SUMMARY:Openhome for 17 Norfolk Street
END:VEVENT
END:VCALENDAR
