BEGIN:VCALENDAR
VERSION:2.0
PRODID:icalendar-ruby
CALSCALE:GREGORIAN
BEGIN:VEVENT
DTSTAMP:20210122T150903Z
UID:6b10ee9a-009b-4783-8dcb-bc101049ac10
DTSTART;TZID=Pacific/Auckland:20210124T120000
DTEND;TZID=Pacific/Auckland:20210124T123000
DESCRIPTION:Property ID# 498441
SUMMARY:Openhome for 59 Kashmir Avenue
END:VEVENT
END:VCALENDAR
