BEGIN:VCALENDAR
VERSION:2.0
PRODID:icalendar-ruby
CALSCALE:GREGORIAN
BEGIN:VEVENT
DTSTAMP:20210122T150908Z
UID:2d7b568f-95f5-467e-b736-50b9a4fceac0
DTSTART;TZID=Pacific/Auckland:20210124T124500
DTEND;TZID=Pacific/Auckland:20210124T131500
DESCRIPTION:Property ID# 497654
SUMMARY:Openhome for 5/30B Wilford Street
END:VEVENT
END:VCALENDAR
